BEGIN:VCALENDAR
VERSION:2.0
PRODID:-//Intand Corporation//Tandem//EN
METHOD:PUBLISH
BEGIN:VEVENT
DTSTAMP:20260424T053912Z
DTSTART:20231207T220000Z
DTEND:20231208T010000Z
TRANSP:TRANSPARENT
PRIORITY:0
SUMMARY:8th Grade Boys Basketball @ New Mark
LOCATION:New Mark Middle
DESCRIPTION:Groups:\nSVMS Boys Basketball\n\nSchools:\nNew Mark Middle\nSo
 uth Valley Middle School\n\nLocation:\nNew Mark Middle\n\n
URL;VALUE=URI:http://liberty53.tandem.co/index.php?type=view&action=event&
 id=468880
CREATED:20230227T185458Z
LAST-MODIFIED:20230227T185458Z
UID:event-468880-liberty53@intand.com
END:VEVENT
END:VCALENDAR
