BEGIN:VCALENDAR
VERSION:2.0
PRODID:-//Intand Corporation//Tandem//EN
METHOD:PUBLISH
BEGIN:VEVENT
DTSTAMP:20260424T023535Z
DTSTART:20231128T220000Z
DTEND:20231129T010000Z
TRANSP:TRANSPARENT
PRIORITY:0
SUMMARY:8th Grade Boys Basketball vs. Discovery
LOCATION:SVMS Gym
DESCRIPTION:Groups:\nSVMS Boys Basketball\n\nSchools:\nSouth Valley Middle
  School\n\nLocation:\nSVMS Gym\n\n
URL;VALUE=URI:http://liberty53.tandem.co/index.php?type=view&action=event&
 id=468877
CREATED:20230227T185306Z
LAST-MODIFIED:20230227T185306Z
UID:event-468877-liberty53@intand.com
END:VEVENT
END:VCALENDAR
