BEGIN:VCALENDAR
VERSION:2.0
PRODID:-//Intand Corporation//Tandem//EN
METHOD:PUBLISH
BEGIN:VEVENT
DTSTAMP:20260424T073845Z
DTSTART:20230404T130000Z
DTEND:20230404T201500Z
TRANSP:TRANSPARENT
PRIORITY:0
SUMMARY:LHS All School Assembly
LOCATION:LHS Room 800 PAC/Theater
DESCRIPTION:Schools:\nLiberty High School\n\nLocation:\nLHS Room 800 PAC/T
 heater\n\n
URL;VALUE=URI:http://liberty53.tandem.co/index.php?type=view&action=event&
 id=468825
CREATED:20230227T150810Z
LAST-MODIFIED:20230327T143100Z
UID:event-468825-liberty53@intand.com
END:VEVENT
END:VCALENDAR
