BEGIN:VCALENDAR
VERSION:2.0
PRODID:-//Intand Corporation//Tandem//EN
METHOD:PUBLISH
BEGIN:VEVENT
DTSTAMP:20260424T024527Z
DTSTART:20231120T220000Z
DTEND:20231121T010000Z
TRANSP:TRANSPARENT
PRIORITY:0
SUMMARY:HMS GBB @ Maple Park
LOCATION:Maple Park Middle School
DESCRIPTION:Groups:\nHMS Girls Basketball\n\nSchools:\nHeritage Middle Sch
 ool\n\nLocation:\nMaple Park Middle School\n\n
URL;VALUE=URI:http://liberty53.tandem.co/index.php?type=view&action=event&
 id=468776
CREATED:20230225T014335Z
LAST-MODIFIED:20230225T014335Z
UID:event-468776-liberty53@intand.com
END:VEVENT
END:VCALENDAR
