BEGIN:VCALENDAR
VERSION:2.0
PRODID:-//Intand Corporation//Tandem//EN
METHOD:PUBLISH
BEGIN:VEVENT
DTSTAMP:20260424T055635Z
DTSTART:20231002T210000Z
DTEND:20231002T230000Z
TRANSP:TRANSPARENT
PRIORITY:0
SUMMARY:HMS XC @ Kearney
LOCATION:Jesse James park
DESCRIPTION:Groups:\nHMS Cross Country\n\nSchools:\nHeritage Middle School
 \n\nLocation:\nJesse James park\n\n
URL;VALUE=URI:http://liberty53.tandem.co/index.php?type=view&action=event&
 id=468765
CREATED:20230225T012744Z
LAST-MODIFIED:20230225T012744Z
UID:event-468765-liberty53@intand.com
END:VEVENT
END:VCALENDAR
