BEGIN:VCALENDAR
VERSION:2.0
PRODID:-//Intand Corporation//Tandem//EN
METHOD:PUBLISH
BEGIN:VEVENT
DTSTAMP:20260424T024345Z
DTSTART:20230923T130000Z
DTEND:20230923T210000Z
TRANSP:TRANSPARENT
PRIORITY:0
SUMMARY:HMS VB Tournament 
LOCATION:HMS North Gym\, HMS South Gym
DESCRIPTION:Groups:\nHMS Volleyball\n\nSchools:\nHeritage Middle School\n\
 nLocations:\nHMS North Gym\nHMS South Gym\n\n
URL;VALUE=URI:http://liberty53.tandem.co/index.php?type=view&action=event&
 id=468758
CREATED:20230225T012211Z
LAST-MODIFIED:20230225T012211Z
UID:event-468758-liberty53@intand.com
END:VEVENT
END:VCALENDAR
