BEGIN:VCALENDAR
VERSION:2.0
PRODID:-//Intand Corporation//Tandem//EN
METHOD:PUBLISH
BEGIN:VEVENT
DTSTAMP:20260424T042009Z
DTSTART:20230425T000000Z
DTEND:20230425T010000Z
TRANSP:TRANSPARENT
PRIORITY:0
SUMMARY:KC Symphony Support Schools Performance @ LNHS
LOCATION:LNHS Performing Arts Theater (GH HVAC)
DESCRIPTION:Setup: 5:00 pm\nBreakdown: 9:00 pm\n\nGroups:\nFine Arts\n\nSc
 hools:\nDistrict Administration Center\nLiberty North High School\n\nLocat
 ion:\nLNHS Performing Arts Theater (GH HVAC)\n\n
URL;VALUE=URI:http://liberty53.tandem.co/index.php?type=view&action=event&
 id=468550
CREATED:20230222T185839Z
LAST-MODIFIED:20230315T194658Z
UID:event-468550-liberty53@intand.com
END:VEVENT
END:VCALENDAR
