BEGIN:VCALENDAR
VERSION:2.0
PRODID:-//Intand Corporation//Tandem//EN
METHOD:PUBLISH
BEGIN:VEVENT
DTSTAMP:20260424T041135Z
DTSTART:20230518T203000Z
DTEND:20230518T230000Z
TRANSP:TRANSPARENT
PRIORITY:0
SUMMARY:LHS Soccer
LOCATION:LHS Turf Practice Field
DESCRIPTION:Monday through Friday\; 3:30-6:00\; back practice turf for LHS
  soccer practice\n\nGroups:\nLHS Girls Soccer\n\nSchools:\nLiberty High Sc
 hool\n\nLocation:\nLHS Turf Practice Field\n\n
URL;VALUE=URI:http://liberty53.tandem.co/index.php?type=view&action=event&
 id=467909
CREATED:20230213T142907Z
LAST-MODIFIED:20230213T143601Z
UID:event_request-467909-liberty53@intand.com
END:VEVENT
END:VCALENDAR
