BEGIN:VCALENDAR
VERSION:2.0
PRODID:-//Intand Corporation//Tandem//EN
METHOD:PUBLISH
BEGIN:VEVENT
DTSTAMP:20260424T063550Z
DTSTART:20230807T123000Z
DTEND:20230807T213000Z
TRANSP:TRANSPARENT
PRIORITY:0
SUMMARY:LHS TUETH KENNEY SEMINAR
LOCATION:LHS View Black Box Rm 38
DESCRIPTION:Schools:\nLiberty High School\n\nLocation:\nLHS View Black Box
  Rm 38\n\n
URL;VALUE=URI:http://liberty53.tandem.co/index.php?type=view&action=event&
 id=467862
CREATED:20230210T204603Z
LAST-MODIFIED:20230210T204623Z
UID:event-467862-liberty53@intand.com
END:VEVENT
END:VCALENDAR
