BEGIN:VCALENDAR
VERSION:2.0
PRODID:-//Intand Corporation//Tandem//EN
METHOD:PUBLISH
BEGIN:VEVENT
DTSTAMP:20260424T055559Z
DTSTART:20230531T110000Z
DTEND:20230531T173000Z
TRANSP:TRANSPARENT
PRIORITY:0
SUMMARY:Boys basketball camps
LOCATION:LHS Cokely Gym\, LHS Fieldhouse Gym
DESCRIPTION:Schools:\nLiberty High School\n\nLocations:\nLHS Cokely Gym\nL
 HS Fieldhouse Gym\n\n
URL;VALUE=URI:http://liberty53.tandem.co/index.php?type=view&action=event&
 id=467626
CREATED:20230210T164529Z
LAST-MODIFIED:20230210T181935Z
UID:event_request-467626-liberty53@intand.com
END:VEVENT
END:VCALENDAR
