BEGIN:VCALENDAR
VERSION:2.0
PRODID:-//Intand Corporation//Tandem//EN
METHOD:PUBLISH
BEGIN:VEVENT
DTSTAMP:20260424T033224Z
DTSTART:20230511T163000Z
DTEND:20230511T203000Z
TRANSP:TRANSPARENT
PRIORITY:0
SUMMARY:LN - AP Exams Dr Camp
LOCATION:LNHS Room 610E\, LNHS Room 613 VM-Small
DESCRIPTION:Groups:\nLNHS Staff\n\nSchools:\nLiberty North High School\n\n
 Locations:\nLNHS Room 610E\nLNHS Room 613 VM-Small\n\n
URL;VALUE=URI:http://liberty53.tandem.co/index.php?type=view&action=event&
 id=467459
CREATED:20230208T174056Z
LAST-MODIFIED:20230208T175726Z
UID:event-467459-liberty53@intand.com
END:VEVENT
END:VCALENDAR
