BEGIN:VCALENDAR
VERSION:2.0
PRODID:-//Intand Corporation//Tandem//EN
METHOD:PUBLISH
BEGIN:VEVENT
DTSTAMP:20260424T033254Z
DTSTART:20230511T000000Z
DTEND:20230511T013000Z
TRANSP:TRANSPARENT
PRIORITY:0
SUMMARY:LNHS - Alliance FC - NL Midwest Conf. (Lindsey)
LOCATION:LNHS Activity Complex
DESCRIPTION:Groups:\nAlliance FC\n\nSchools:\nLiberty North High School\n\
 nLocation:\nLNHS Activity Complex\n\n
URL;VALUE=URI:http://liberty53.tandem.co/index.php?type=view&action=event&
 id=467417
CREATED:20230207T204720Z
LAST-MODIFIED:20230207T205748Z
UID:event-467417-liberty53@intand.com
END:VEVENT
END:VCALENDAR
