BEGIN:VCALENDAR
VERSION:2.0
PRODID:-//Intand Corporation//Tandem//EN
METHOD:PUBLISH
BEGIN:VEVENT
DTSTAMP:20260424T050257Z
DTSTART:20230605T230000Z
DTEND:20230606T013000Z
TRANSP:TRANSPARENT
PRIORITY:0
SUMMARY:[Cancelled] LNHS - Alliance Soccer (Lindsey)
LOCATION:LNHS Soccer Practice Field - Lower
DESCRIPTION:Groups:\nAlliance FC\n\nSchools:\nLiberty North High School\n\
 nLocation:\nLNHS Soccer Practice Field - Lower\n\n
URL;VALUE=URI:http://liberty53.tandem.co/index.php?type=view&action=event&
 id=467404
CREATED:20230207T183115Z
LAST-MODIFIED:20230620T161954Z
UID:event-467404-liberty53@intand.com
END:VEVENT
END:VCALENDAR
