BEGIN:VCALENDAR
VERSION:2.0
PRODID:-//Intand Corporation//Tandem//EN
METHOD:PUBLISH
BEGIN:VEVENT
DTSTAMP:20260424T043643Z
DTSTART:20230417T110000Z
DTEND:20230417T123000Z
TRANSP:TRANSPARENT
PRIORITY:0
SUMMARY:LHS Football - Offseason Training
LOCATION:LHS Cokely Gym\, LHS Turf Game Field\, LHS Weight Room
DESCRIPTION:Groups:\nLHS Football\n\nSchools:\nLiberty High School\n\nLoca
 tions:\nLHS Cokely Gym\nLHS Turf Game Field\nLHS Weight Room\n\n
URL;VALUE=URI:http://liberty53.tandem.co/index.php?type=view&action=event&
 id=467339
CREATED:20230207T141644Z
LAST-MODIFIED:20230207T154954Z
UID:event_request-467339-liberty53@intand.com
END:VEVENT
END:VCALENDAR
