BEGIN:VCALENDAR
VERSION:2.0
PRODID:-//Intand Corporation//Tandem//EN
METHOD:PUBLISH
BEGIN:VEVENT
DTSTAMP:20260424T023627Z
DTSTART:20230908T200000Z
DTEND:20230908T213000Z
TRANSP:TRANSPARENT
PRIORITY:0
SUMMARY:LN Football Pregame
LOCATION:LNHS Room 417 - The Eagle Room\, LNHS Aux Weight Room 1\, LNHS Ca
 feteria (GH HVAC)\, LNHS Aux Gym - 407 (GH HVAC)\, LNHS Room 428-Weight Ro
 om
DESCRIPTION:Groups:\nLNHS Football - Varsity\n\nSchools:\nLiberty North Hi
 gh School\n\nLocations:\nLNHS Room 417 - The Eagle Room\nLNHS Aux Weight R
 oom 1\nLNHS Cafeteria (GH HVAC)\nLNHS Aux Gym - 407 (GH HVAC)\nLNHS Room 4
 28-Weight Room\n\n
URL;VALUE=URI:http://liberty53.tandem.co/index.php?type=view&action=event&
 id=466934
CREATED:20230203T185940Z
LAST-MODIFIED:20230205T224503Z
UID:event_request-466934-liberty53@intand.com
END:VEVENT
END:VCALENDAR
