BEGIN:VCALENDAR
VERSION:2.0
PRODID:-//Intand Corporation//Tandem//EN
METHOD:PUBLISH
BEGIN:VEVENT
DTSTAMP:20260424T035115Z
DTSTART:20230421T230000Z
DTEND:20230422T020000Z
TRANSP:TRANSPARENT
PRIORITY:0
SUMMARY:LC - PTA Movie Night
LOCATION:LCE Gym\, LCE Cafeteria
DESCRIPTION:Groups:\nLCE Staff\nLCE Parent\nLCE PTA\nLCE Kid's Zone\nLCE A
 dmin\n\nSchools:\nLewis And Clark Elementary\n\nLocations:\nLCE Gym\nLCE C
 afeteria\n\n
URL;VALUE=URI:http://liberty53.tandem.co/index.php?type=view&action=event&
 id=466850
CREATED:20230203T134258Z
LAST-MODIFIED:20230203T134258Z
UID:event-466850-liberty53@intand.com
END:VEVENT
END:VCALENDAR
