BEGIN:VCALENDAR
VERSION:2.0
PRODID:-//Intand Corporation//Tandem//EN
METHOD:PUBLISH
BEGIN:VEVENT
DTSTAMP:20260424T020306Z
DTSTART:20230614T120000Z
DTEND:20230614T220000Z
TRANSP:TRANSPARENT
PRIORITY:0
SUMMARY:LHS - Daktronics Seminar
LOCATION:LHS View Main Floor\, LHS View Think Tank Rm35\, LHS View Brown R
 m 28\, LHS View Green Room
DESCRIPTION:Groups:\nLHS Athletics\n\nSchools:\nLiberty High School\n\nLoc
 ations:\nLHS View Main Floor\nLHS View Think Tank Rm35\nLHS View Brown Rm 
 28\nLHS View Green Room\n\n
URL;VALUE=URI:http://liberty53.tandem.co/index.php?type=view&action=event&
 id=466421
CREATED:20230127T171406Z
LAST-MODIFIED:20230127T171406Z
UID:event-466421-liberty53@intand.com
END:VEVENT
END:VCALENDAR
