BEGIN:VCALENDAR
VERSION:2.0
PRODID:-//Intand Corporation//Tandem//EN
METHOD:PUBLISH
BEGIN:VEVENT
DTSTAMP:20260424T043505Z
DTSTART:20230502T231500Z
DTEND:20230503T001500Z
TRANSP:TRANSPARENT
PRIORITY:0
SUMMARY:SC - Girl Scout Troop 3926 (Shavnore)
LOCATION:SCE Great Hall
DESCRIPTION:Groups:\nGirls Scouts of NE Kansas and NW Missouri\n\nSchools:
 \nShoal Creek Elementary\n\nLocation:\nSCE Great Hall\n\n
URL;VALUE=URI:http://liberty53.tandem.co/index.php?type=view&action=event&
 id=466135
CREATED:20230120T135313Z
LAST-MODIFIED:20230120T135313Z
UID:event-466135-liberty53@intand.com
END:VEVENT
END:VCALENDAR
