BEGIN:VCALENDAR
VERSION:2.0
PRODID:-//Intand Corporation//Tandem//EN
METHOD:PUBLISH
BEGIN:VEVENT
DTSTAMP:20260424T053906Z
DTSTART:20231219T140000Z
DTEND:20231219T200000Z
TRANSP:TRANSPARENT
PRIORITY:0
SUMMARY:SS Conference Room- NS New Hire Orientation
LOCATION:SS Conference Room
DESCRIPTION:Groups:\nNutrition Services\n\nSchools:\nDistrict Administrati
 on Center\n\nLocation:\nSS Conference Room\n\n
URL;VALUE=URI:http://liberty53.tandem.co/index.php?type=view&action=event&
 id=465899
CREATED:20230118T155105Z
LAST-MODIFIED:20230118T162041Z
UID:event_request-465899-liberty53@intand.com
END:VEVENT
END:VCALENDAR
