BEGIN:VCALENDAR
VERSION:2.0
PRODID:-//Intand Corporation//Tandem//EN
METHOD:PUBLISH
BEGIN:VEVENT
DTSTAMP:20260424T161915Z
DTSTART:20230428T223000Z
DTEND:20230429T010000Z
TRANSP:TRANSPARENT
PRIORITY:0
SUMMARY:RV PTA Spring Social
LOCATION:Ridgeview Elementary
DESCRIPTION:Setup: 4:00 pm\nBreakdown: 9:30 pm\n\nSchools:\nRidgeview Elem
 entary\n\nLocation:\nRidgeview Elementary\n\n
URL;VALUE=URI:http://liberty53.tandem.co/index.php?type=view&action=event&
 id=465823
CREATED:20230117T155436Z
LAST-MODIFIED:20230117T155436Z
UID:event-465823-liberty53@intand.com
END:VEVENT
END:VCALENDAR
