BEGIN:VCALENDAR
VERSION:2.0
PRODID:-//Intand Corporation//Tandem//EN
METHOD:PUBLISH
BEGIN:VEVENT
DTSTAMP:20260424T033705Z
DTSTART:20230528T223000Z
DTEND:20230529T000000Z
TRANSP:TRANSPARENT
PRIORITY:0
SUMMARY:LNHS Band - Orlando Trip Rehearsal
LOCATION:LNHS Track\, LNHS Parking Lot\, LNHS Great Hall\, LNHS Activity C
 omplex\, LNHS Room 616 Band
DESCRIPTION:Marching (parade) rehearsal in the LNHS stadium (or indoors in
  Eagle Avenue in case of rain)\n\nGroups:\nLNHS Band\n\nSchools:\nLiberty 
 North High School\n\nLocations:\nLNHS Track\nLNHS Parking Lot\nLNHS Great 
 Hall\nLNHS Activity Complex\nLNHS Room 616 Band\n\n
URL;VALUE=URI:http://liberty53.tandem.co/index.php?type=view&action=event&
 id=465767
CREATED:20230112T231558Z
LAST-MODIFIED:20230214T200159Z
UID:event_request-465767-liberty53@intand.com
END:VEVENT
END:VCALENDAR
