BEGIN:VCALENDAR
VERSION:2.0
PRODID:-//Intand Corporation//Tandem//EN
METHOD:PUBLISH
BEGIN:VEVENT
DTSTAMP:20260424T043809Z
DTSTART:20230405T123000Z
DTEND:20230405T203000Z
TRANSP:TRANSPARENT
PRIORITY:0
SUMMARY:DAC 409- HR Interviews
LOCATION:DAC 4 - 409
DESCRIPTION:Groups:\nAssessment\nDAC Human Resources\n\nSchools:\nDistrict
  Administration Center\n\nLocation:\nDAC 4 - 409\n\n
URL;VALUE=URI:http://liberty53.tandem.co/index.php?type=view&action=event&
 id=465226
CREATED:20230104T193715Z
LAST-MODIFIED:20230403T201050Z
UID:event-465226-liberty53@intand.com
END:VEVENT
END:VCALENDAR
