BEGIN:VCALENDAR
VERSION:2.0
PRODID:-//Intand Corporation//Tandem//EN
METHOD:PUBLISH
BEGIN:VEVENT
DTSTAMP:20260424T091423Z
DTSTART:20230404T173000Z
DTEND:20230404T203000Z
TRANSP:TRANSPARENT
PRIORITY:0
SUMMARY:Recreational Therapist
LOCATION:LNHS Room 712
DESCRIPTION:Groups:\nLNHS Counselors\n\nSchools:\nLiberty North High Schoo
 l\n\nLocation:\nLNHS Room 712\n\n
URL;VALUE=URI:http://liberty53.tandem.co/index.php?type=view&action=event&
 id=465023
CREATED:20221219T155152Z
LAST-MODIFIED:20221220T151048Z
UID:event_request-465023-liberty53@intand.com
END:VEVENT
END:VCALENDAR
