BEGIN:VCALENDAR
VERSION:2.0
PRODID:-//Intand Corporation//Tandem//EN
METHOD:PUBLISH
BEGIN:VEVENT
DTSTAMP:20260424T053735Z
DTSTART:20230508T203000Z
DTEND:20230508T230000Z
TRANSP:TRANSPARENT
PRIORITY:0
SUMMARY:LNHS girls soccer practice
LOCATION:LNHS Soccer Practice Field - Lower\, LNHS Soccer Practice Field -
  Upper\, LNHS Activity Complex
DESCRIPTION:Groups:\nLNHS Soccer - Girls C-Gold\nLNHS Soccer - Girls C-Nav
 y\nLNHS Soccer - Girls JV\nLNHS Soccer - Girls JV/Varsity\nLNHS Soccer - G
 irls Varsity\n\nSchools:\nLiberty North High School\n\nLocations:\nLNHS So
 ccer Practice Field - Lower\nLNHS Soccer Practice Field - Upper\nLNHS Acti
 vity Complex\n\n
URL;VALUE=URI:http://liberty53.tandem.co/index.php?type=view&action=event&
 id=464983
CREATED:20221216T145351Z
LAST-MODIFIED:20221218T002846Z
UID:event_request-464983-liberty53@intand.com
END:VEVENT
END:VCALENDAR
