BEGIN:VCALENDAR
VERSION:2.0
PRODID:-//Intand Corporation//Tandem//EN
METHOD:PUBLISH
BEGIN:VEVENT
DTSTAMP:20260424T063813Z
DTSTART:20230504T110000Z
DTEND:20230504T123000Z
TRANSP:TRANSPARENT
PRIORITY:0
SUMMARY:LN Football
LOCATION:LNHS Fieldhouse Turf Room
DESCRIPTION:Groups:\nLNHS Football - Varsity\n\nSchools:\nLiberty North Hi
 gh School\n\nLocation:\nLNHS Fieldhouse Turf Room\n\n
URL;VALUE=URI:http://liberty53.tandem.co/index.php?type=view&action=event&
 id=464882
CREATED:20221214T133956Z
LAST-MODIFIED:20221214T133956Z
UID:event-464882-liberty53@intand.com
END:VEVENT
END:VCALENDAR
