BEGIN:VCALENDAR
VERSION:2.0
PRODID:-//Intand Corporation//Tandem//EN
METHOD:PUBLISH
BEGIN:VEVENT
DTSTAMP:20260424T055449Z
DTSTART:20230405T110000Z
DTEND:20230405T130000Z
TRANSP:TRANSPARENT
PRIORITY:0
SUMMARY:LN Football
LOCATION:LNHS Fieldhouse (GH HVAC)
DESCRIPTION:Groups:\nLNHS Football - Varsity\n\nSchools:\nLiberty North Hi
 gh School\n\nLocation:\nLNHS Fieldhouse (GH HVAC)\n\n
URL;VALUE=URI:http://liberty53.tandem.co/index.php?type=view&action=event&
 id=464827
CREATED:20221213T220843Z
LAST-MODIFIED:20221213T224420Z
UID:event_request-464827-liberty53@intand.com
END:VEVENT
END:VCALENDAR
