BEGIN:VCALENDAR
VERSION:2.0
PRODID:-//Intand Corporation//Tandem//EN
METHOD:PUBLISH
BEGIN:VEVENT
DTSTAMP:20260424T020235Z
DTSTART:20230418T123000Z
DTEND:20230418T200000Z
TRANSP:TRANSPARENT
PRIORITY:0
SUMMARY:DAC 410/409- McDowell ESSR
LOCATION:DAC 4 - 409\, DAC 4 - 410
DESCRIPTION:Groups:\nDAC Innovation & Learning\n\nSchools:\nDistrict Admin
 istration Center\n\nLocations:\nDAC 4 - 409\nDAC 4 - 410\n\n
URL;VALUE=URI:http://liberty53.tandem.co/index.php?type=view&action=event&
 id=464561
CREATED:20221212T131145Z
LAST-MODIFIED:20230309T204530Z
UID:event-464561-liberty53@intand.com
END:VEVENT
END:VCALENDAR
