BEGIN:VCALENDAR
VERSION:2.0
PRODID:-//Intand Corporation//Tandem//EN
METHOD:PUBLISH
BEGIN:VEVENT
DTSTAMP:20260424T055533Z
DTSTART:20230415T180000Z
DTEND:20230415T193000Z
TRANSP:TRANSPARENT
PRIORITY:0
SUMMARY:8th Grade Orchestra Combined Silver Dollar City
LOCATION:LNHS Performing Arts Theater (GH HVAC)
DESCRIPTION:Combined Rehearsal for 8th Grade Orchestras for Silver Dollar 
 City.  \n\nSetup: 12:00 pm\nBreakdown: 3:30 pm\n\nGroups:\nDMS Orchestra\n
 LMS Orchestra\nHMS Orchestra\nSVMS Orchestra\n\nSchools:\nSouth Valley Mid
 dle School\nHeritage Middle School\nLiberty Middle School\nDiscovery Middl
 e School\nLiberty North High School\n\nLocation:\nLNHS Performing Arts The
 ater (GH HVAC)\n\n
URL;VALUE=URI:http://liberty53.tandem.co/index.php?type=view&action=event&
 id=464519
CREATED:20221207T202809Z
LAST-MODIFIED:20230315T153214Z
UID:event_request-464519-liberty53@intand.com
END:VEVENT
END:VCALENDAR
