BEGIN:VCALENDAR
VERSION:2.0
PRODID:-//Intand Corporation//Tandem//EN
METHOD:PUBLISH
BEGIN:VEVENT
DTSTAMP:20260424T041038Z
DTSTART:20230605T233000Z
DTEND:20230606T013000Z
TRANSP:TRANSPARENT
PRIORITY:0
SUMMARY:LN Cross Country Youth Camp
LOCATION:LNHS Activity Complex
DESCRIPTION:Groups:\nLNHS Cross Country\n\nSchools:\nLiberty North High Sc
 hool\n\nLocation:\nLNHS Activity Complex\n\n
URL;VALUE=URI:http://liberty53.tandem.co/index.php?type=view&action=event&
 id=463996
CREATED:20221117T145521Z
LAST-MODIFIED:20230329T172528Z
UID:event_request-463996-liberty53@intand.com
END:VEVENT
END:VCALENDAR
