BEGIN:VCALENDAR
VERSION:2.0
PRODID:-//Intand Corporation//Tandem//EN
METHOD:PUBLISH
BEGIN:VEVENT
DTSTAMP:20260424T073822Z
DTSTART:20230512T123000Z
DTEND:20230512T130000Z
TRANSP:TRANSPARENT
PRIORITY:0
SUMMARY:Eagle Way Celebration
LOCATION:SVMS Cafeteria
DESCRIPTION:Groups:\nSVMS Staff\nSVMS Students\n\nSchools:\nSouth Valley M
 iddle School\n\nLocation:\nSVMS Cafeteria\n\n
URL;VALUE=URI:http://liberty53.tandem.co/index.php?type=view&action=event&
 id=463094
CREATED:20221028T132112Z
LAST-MODIFIED:20221031T174622Z
UID:event-463094-liberty53@intand.com
END:VEVENT
END:VCALENDAR
