BEGIN:VCALENDAR
VERSION:2.0
PRODID:-//Intand Corporation//Tandem//EN
METHOD:PUBLISH
BEGIN:VEVENT
DTSTAMP:20260424T041508Z
DTSTART:20230509T203000Z
DTEND:20230509T223000Z
TRANSP:TRANSPARENT
PRIORITY:0
SUMMARY:Cheer Practice 
LOCATION:LHS Fieldhouse Gym
DESCRIPTION:Groups:\nLHS Cheerleading\n\nSchools:\nLiberty High School\n\n
 Location:\nLHS Fieldhouse Gym\n\n
URL;VALUE=URI:http://liberty53.tandem.co/index.php?type=view&action=event&
 id=463006
CREATED:20221026T202544Z
LAST-MODIFIED:20221031T134335Z
UID:event_request-463006-liberty53@intand.com
END:VEVENT
END:VCALENDAR
