BEGIN:VCALENDAR
VERSION:2.0
PRODID:-//Intand Corporation//Tandem//EN
METHOD:PUBLISH
BEGIN:VEVENT
DTSTAMP:20260424T023657Z
DTSTART;VALUE=DATE:20230604
DTEND;VALUE=DATE:20230605
TRANSP:TRANSPARENT
PRIORITY:0
SUMMARY:Creative Arts Academy Block outs 
LOCATION:LHS Room 804 Studio\, LHS Room 826 Studio\, LHS Room 800 PAC/Thea
 ter\, LHS Room 801 Gallery\, LHS Room 823 Studio\, LHS Room 811 Orchestra\
 , LHS Room 812 Drama\, LHS Room 827 Speech/Debate\, LHS Room 808 Band\, LH
 S Theater Lobby\, LHS Ro
DESCRIPTION:Summer School programming will be using the stage with equipme
 nt\, set\, and other materials. \n\nGroups:\nLHS Theater\n\nSchools:\nLibe
 rty High School\n\nLocations:\nLHS Room 804 Studio\nLHS Room 826 Studio\nL
 HS Room 800 PAC/Theater\nLHS Room 801 Gallery\nLHS Room 823 Studio\nLHS Ro
 om 811 Orchestra\nLHS Room 812 Drama\nLHS Room 827 Speech/Debate\nLHS Room
  808 Band\nLHS Theater Lobby\nLHS Room 809 Band\nLHS Room 806 Studio\nLHS 
 Room 812A Designer Studio\nLHS Room 822 Studio\nLHS View Black Box Rm 38\n
 LHS Room 820 Vocal\nLHS Room 803 Studio\n\n
URL;VALUE=URI:http://liberty53.tandem.co/index.php?type=view&action=event&
 id=462232
CREATED:20221020T202620Z
LAST-MODIFIED:20221024T145519Z
UID:event_request-462232-liberty53@intand.com
END:VEVENT
END:VCALENDAR
