BEGIN:VCALENDAR
VERSION:2.0
PRODID:-//Intand Corporation//Tandem//EN
METHOD:PUBLISH
BEGIN:VEVENT
DTSTAMP:20260424T043629Z
DTSTART:20230519T210000Z
DTEND:20230520T030000Z
TRANSP:TRANSPARENT
PRIORITY:0
SUMMARY:Music & Film Class Awards/Premier Night
LOCATION:LHS Cafeteria\, LHS Room 800 PAC/Theater\, LHS Room 801 Gallery\,
  LHS Theater Lobby
DESCRIPTION:Groups:\nFine Arts\n\nSchools:\nLiberty High School\n\nLocatio
 ns:\nLHS Cafeteria\nLHS Room 800 PAC/Theater\nLHS Room 801 Gallery\nLHS Th
 eater Lobby\n\nContacts:\nMatthew Allison\n\n
URL;VALUE=URI:http://liberty53.tandem.co/index.php?type=view&action=event&
 id=461826
CREATED:20221017T194437Z
LAST-MODIFIED:20221017T194437Z
UID:event-461826-liberty53@intand.com
END:VEVENT
END:VCALENDAR
