BEGIN:VCALENDAR
VERSION:2.0
PRODID:-//Intand Corporation//Tandem//EN
METHOD:PUBLISH
BEGIN:VEVENT
DTSTAMP:20260424T161922Z
DTSTART:20230523T180000Z
DTEND:20230523T200000Z
TRANSP:TRANSPARENT
PRIORITY:0
SUMMARY:LN - Admin Meeting 
LOCATION:LNHS Room 711
DESCRIPTION:Groups:\nLNHS Staff\n\nSchools:\nLiberty North High School\n\n
 Location:\nLNHS Room 711\n\n
URL;VALUE=URI:http://liberty53.tandem.co/index.php?type=view&action=event&
 id=460541
CREATED:20220920T193533Z
LAST-MODIFIED:20220920T193533Z
UID:event-460541-liberty53@intand.com
END:VEVENT
END:VCALENDAR
