BEGIN:VCALENDAR
VERSION:2.0
PRODID:-//Intand Corporation//Tandem//EN
METHOD:PUBLISH
BEGIN:VEVENT
DTSTAMP:20260424T033240Z
DTSTART:20230511T160000Z
DTEND:20230511T180000Z
TRANSP:TRANSPARENT
PRIORITY:0
SUMMARY:DAC 409- Social Worker Meeting 
LOCATION:DAC 4 - 409
DESCRIPTION:Groups:\nSocial Workers\n\nSchools:\nDistrict Administration C
 enter\n\nLocation:\nDAC 4 - 409\n\n
URL;VALUE=URI:http://liberty53.tandem.co/index.php?type=view&action=event&
 id=459949
CREATED:20220909T130430Z
LAST-MODIFIED:20230309T165302Z
UID:event-459949-liberty53@intand.com
END:VEVENT
END:VCALENDAR
