BEGIN:VCALENDAR
VERSION:2.0
PRODID:-//Intand Corporation//Tandem//EN
METHOD:PUBLISH
BEGIN:VEVENT
DTSTAMP:20260424T043042Z
DTSTART:20230524T213000Z
DTEND:20230524T223000Z
TRANSP:TRANSPARENT
PRIORITY:0
SUMMARY:RV - Girl Scout Meeting Troop 2132 (Vedder)
LOCATION:RE LMC
DESCRIPTION:Groups:\nGirls Scouts of NE Kansas and NW Missouri\n\nSchools:
 \nRidgeview Elementary\n\nLocation:\nRE LMC\n\n
URL;VALUE=URI:http://liberty53.tandem.co/index.php?type=view&action=event&
 id=459605
CREATED:20220906T204859Z
LAST-MODIFIED:20220906T204859Z
UID:event-459605-liberty53@intand.com
END:VEVENT
END:VCALENDAR
