BEGIN:VCALENDAR
VERSION:2.0
PRODID:-//Intand Corporation//Tandem//EN
METHOD:PUBLISH
BEGIN:VEVENT
DTSTAMP:20260424T015318Z
DTSTART:20230523T180000Z
DTEND:20230523T200000Z
TRANSP:TRANSPARENT
PRIORITY:0
SUMMARY:DAC 410- 504 Work Session
LOCATION:DAC 4 - 410
DESCRIPTION:Groups:\nDAC Special Programs\n\nSchools:\nDistrict Administra
 tion Center\n\nLocation:\nDAC 4 - 410\n\n
URL;VALUE=URI:http://liberty53.tandem.co/index.php?type=view&action=event&
 id=459292
CREATED:20220902T141139Z
LAST-MODIFIED:20230309T162813Z
UID:event-459292-liberty53@intand.com
END:VEVENT
END:VCALENDAR
