BEGIN:VCALENDAR
VERSION:2.0
PRODID:-//Intand Corporation//Tandem//EN
METHOD:PUBLISH
BEGIN:VEVENT
DTSTAMP:20260424T040704Z
DTSTART:20230513T140000Z
DTEND:20230513T223000Z
TRANSP:TRANSPARENT
PRIORITY:0
SUMMARY:LMS - P & R - Lifeguard Certification
LOCATION:LMS Cafeteria\, LMS Commons
DESCRIPTION:Groups:\nLiberty Parks & Rec\n\nSchools:\nLiberty Middle Schoo
 l\n\nLocations:\nLMS Cafeteria\nLMS Commons\n\n
URL;VALUE=URI:http://liberty53.tandem.co/index.php?type=view&action=event&
 id=458962
CREATED:20220824T201202Z
LAST-MODIFIED:20220824T201202Z
UID:event-458962-liberty53@intand.com
END:VEVENT
END:VCALENDAR
