BEGIN:VCALENDAR
VERSION:2.0
PRODID:-//Intand Corporation//Tandem//EN
METHOD:PUBLISH
BEGIN:VEVENT
DTSTAMP:20260424T073214Z
DTSTART:20230403T230000Z
DTEND:20230404T023000Z
TRANSP:TRANSPARENT
PRIORITY:0
SUMMARY:MH - P & R - Spring Soccer and/or Flag Football
LOCATION:MHE Soccer Field
DESCRIPTION:Groups:\nLiberty Parks & Rec Soccer\n\nSchools:\nManor Hill El
 ementary\n\nLocation:\nMHE Soccer Field\n\n
URL;VALUE=URI:http://liberty53.tandem.co/index.php?type=view&action=event&
 id=458744
CREATED:20220824T193844Z
LAST-MODIFIED:20220824T193844Z
UID:event-458744-liberty53@intand.com
END:VEVENT
END:VCALENDAR
