BEGIN:VCALENDAR
VERSION:2.0
PRODID:-//Intand Corporation//Tandem//EN
METHOD:PUBLISH
BEGIN:VEVENT
DTSTAMP:20260424T015235Z
DTSTART:20230406T230000Z
DTEND:20230407T030000Z
TRANSP:TRANSPARENT
PRIORITY:0
SUMMARY:LO - P & R - Spring Baseball/Softball
LOCATION:LOE Baseball Field
DESCRIPTION:Groups:\nLiberty Parks & Rec Baseball\n\nSchools:\nLiberty Oak
 s Elementary\n\nLocation:\nLOE Baseball Field\n\n
URL;VALUE=URI:http://liberty53.tandem.co/index.php?type=view&action=event&
 id=457777
CREATED:20220824T182444Z
LAST-MODIFIED:20220824T182444Z
UID:event-457777-liberty53@intand.com
END:VEVENT
END:VCALENDAR
