BEGIN:VCALENDAR
VERSION:2.0
PRODID:-//Intand Corporation//Tandem//EN
METHOD:PUBLISH
BEGIN:VEVENT
DTSTAMP:20260424T075937Z
DTSTART:20230506T090000Z
DTEND:20230506T210000Z
TRANSP:TRANSPARENT
PRIORITY:0
SUMMARY:McDorman AP Testing
LOCATION:LHS Fieldhouse Gym
DESCRIPTION:Groups:\nLHS Administrative Team\n\nSchools:\nLiberty High Sch
 ool\n\nLocation:\nLHS Fieldhouse Gym\n\n
URL;VALUE=URI:http://liberty53.tandem.co/index.php?type=view&action=event&
 id=456206
CREATED:20220818T181912Z
LAST-MODIFIED:20220819T172832Z
UID:event_request-456206-liberty53@intand.com
END:VEVENT
END:VCALENDAR
