BEGIN:VCALENDAR
VERSION:2.0
PRODID:-//Intand Corporation//Tandem//EN
METHOD:PUBLISH
BEGIN:VEVENT
DTSTAMP:20260424T015149Z
DTSTART;VALUE=DATE:20110927
DTEND;VALUE=DATE:20110928
TRANSP:TRANSPARENT
PRIORITY:0
SUMMARY:Reed Portrait Group here
LOCATION:Early Childhood Education Center\, ECC Fireplace Room
DESCRIPTION:Groups:\nECC Staff\n\nSchools:\nEarly Childhood Education Cent
 er\n\nLocations:\nEarly Childhood Education Center\nECC Fireplace Room\n\n
URL;VALUE=URI:http://liberty53.tandem.co/index.php?type=view&action=event&
 id=45489
CREATED:20110518T162749Z
LAST-MODIFIED:20110518T162749Z
UID:event-45489-liberty53@intand.com
END:VEVENT
END:VCALENDAR
