BEGIN:VCALENDAR
VERSION:2.0
PRODID:-//Intand Corporation//Tandem//EN
METHOD:PUBLISH
BEGIN:VEVENT
DTSTAMP:20260424T073937Z
DTSTART:20230504T000000Z
DTEND:20230504T020000Z
TRANSP:TRANSPARENT
PRIORITY:0
SUMMARY:MH-PTA Meeting
LOCATION:MHE Library
DESCRIPTION:Groups:\nMHE PTA\nMHE Staff\nMHE Parent\n\nSchools:\nManor Hil
 l Elementary\n\nLocation:\nMHE Library\n\n
URL;VALUE=URI:http://liberty53.tandem.co/index.php?type=view&action=event&
 id=452522
CREATED:20220801T163357Z
LAST-MODIFIED:20220801T163357Z
UID:event-452522-liberty53@intand.com
END:VEVENT
END:VCALENDAR
