BEGIN:VCALENDAR
VERSION:2.0
PRODID:-//Intand Corporation//Tandem//EN
METHOD:PUBLISH
BEGIN:VEVENT
DTSTAMP:20260424T033145Z
DTSTART:20111005T140000Z
DTEND:20111005T163000Z
TRANSP:TRANSPARENT
PRIORITY:0
SUMMARY:[Cancelled] CANCELLED 10-4-11....SSC - Transportation SPED/SUB Dri
 ver Training
LOCATION:SS Conference Room
DESCRIPTION:CANCELLED by Cathy Dawdy.....SSC Conference Room - Transportat
 ion SPED/SUB Driver Training\n\nGroups:\nSSC Transportation Staff\n\nSchoo
 ls:\nDistrict Administration Center\n\nLocation:\nSS Conference Room\n\nPl
 ease contact Cathy Dawdy for set up instruction.\n\n
URL;VALUE=URI:http://liberty53.tandem.co/index.php?type=view&action=event&
 id=45175
CREATED:20110517T130125Z
LAST-MODIFIED:20111004T120536Z
UID:event-45175-liberty53@intand.com
END:VEVENT
END:VCALENDAR
