BEGIN:VCALENDAR
VERSION:2.0
PRODID:-//Intand Corporation//Tandem//EN
METHOD:PUBLISH
BEGIN:VEVENT
DTSTAMP:20260424T061423Z
DTSTART:20230405T210000Z
DTEND:20230406T010000Z
TRANSP:TRANSPARENT
PRIORITY:0
SUMMARY:LHS-Var Baseball @ Staley
LOCATION:Staley High School
DESCRIPTION:Groups:\nLHS Baseball Varsity\n\nSchools:\nLiberty High School
 \n\nLocation:\nStaley High School\n\n
URL;VALUE=URI:http://liberty53.tandem.co/index.php?type=view&action=event&
 id=450796
CREATED:20220726T084208Z
LAST-MODIFIED:20220726T084604Z
UID:event-450796-liberty53@intand.com
END:VEVENT
END:VCALENDAR
