BEGIN:VCALENDAR
VERSION:2.0
PRODID:-//Intand Corporation//Tandem//EN
METHOD:PUBLISH
BEGIN:VEVENT
DTSTAMP:20260424T043926Z
DTSTART:20230503T210000Z
DTEND:20230503T220000Z
TRANSP:TRANSPARENT
PRIORITY:0
SUMMARY:LHS- C Team White Baseball @ excelsior Springs
LOCATION:Excelsior Springs High
DESCRIPTION:Groups:\nLHS Baseball C-Team\n\nSchools:\nLiberty High School\
 nExcelsior Springs High\n\nLocation:\nExcelsior Springs High\n\n
URL;VALUE=URI:http://liberty53.tandem.co/index.php?type=view&action=event&
 id=450743
CREATED:20220726T080813Z
LAST-MODIFIED:20220726T080813Z
UID:event-450743-liberty53@intand.com
END:VEVENT
END:VCALENDAR
