BEGIN:VCALENDAR
VERSION:2.0
PRODID:-//Intand Corporation//Tandem//EN
METHOD:PUBLISH
BEGIN:VEVENT
DTSTAMP:20260424T063418Z
DTSTART:20230413T230000Z
DTEND:20230414T010000Z
TRANSP:TRANSPARENT
PRIORITY:0
SUMMARY:Steam Night
LOCATION:KE Room 401\, KE Room 19\, KE Office Conference Room\, KE Room 11
 \, KE Room 300\, KE Green Pod\, KE Room 20\, KE Cafeteria\, KE Library\, K
 E Art Room\, KE Gym\, KE Music Room #4
DESCRIPTION:Schools:\nKellybrook Elementary\n\nLocations:\nKE Room 401\nKE
  Room 19\nKE Office Conference Room\nKE Room 11\nKE Room 300\nKE Green Pod
 \nKE Room 20\nKE Cafeteria\nKE Library\nKE Art Room\nKE Gym\nKE Music Room
  #4\n\n
URL;VALUE=URI:http://liberty53.tandem.co/index.php?type=view&action=event&
 id=449367
CREATED:20220628T162335Z
LAST-MODIFIED:20220628T162335Z
UID:event-449367-liberty53@intand.com
END:VEVENT
END:VCALENDAR
