BEGIN:VCALENDAR
VERSION:2.0
PRODID:-//Intand Corporation//Tandem//EN
METHOD:PUBLISH
BEGIN:VEVENT
DTSTAMP:20260424T050251Z
DTSTART:20230418T230000Z
DTEND:20230419T000000Z
TRANSP:TRANSPARENT
PRIORITY:0
SUMMARY:WH Treble Makers Concert
LOCATION:WHE Gym\, WHE Music Room
DESCRIPTION:Setup: 5:30 pm\nBreakdown: 7:30 pm\n\nGroups:\nWHE Vocal Music
 \n\nSchools:\nWarren Hills Elementary\n\nLocations:\nWHE Gym\nWHE Music Ro
 om\n\n
URL;VALUE=URI:http://liberty53.tandem.co/index.php?type=view&action=event&
 id=449105
CREATED:20220627T162702Z
LAST-MODIFIED:20220627T165043Z
UID:event-449105-liberty53@intand.com
END:VEVENT
END:VCALENDAR
