BEGIN:VCALENDAR
VERSION:2.0
PRODID:-//Intand Corporation//Tandem//EN
METHOD:PUBLISH
BEGIN:VEVENT
DTSTAMP:20260424T050411Z
DTSTART:20230414T120000Z
DTEND:20230414T200000Z
TRANSP:TRANSPARENT
PRIORITY:0
SUMMARY:[Cancelled] LMS Writing Festival
LOCATION:LMS LMC\, Liberty Performing Arts Theatre
DESCRIPTION:Schools:\nLiberty Middle School\n\nLocations:\nLMS LMC\nLibert
 y Performing Arts Theatre\n\n
URL;VALUE=URI:http://liberty53.tandem.co/index.php?type=view&action=event&
 id=448571
CREATED:20220621T190040Z
LAST-MODIFIED:20230106T173503Z
UID:event-448571-liberty53@intand.com
END:VEVENT
END:VCALENDAR
