BEGIN:VCALENDAR
VERSION:2.0
PRODID:-//Intand Corporation//Tandem//EN
METHOD:PUBLISH
BEGIN:VEVENT
DTSTAMP:20260424T050136Z
DTSTART:20230406T130000Z
DTEND:20230406T203000Z
TRANSP:TRANSPARENT
PRIORITY:0
SUMMARY:DAC 3-Board Room Team Liberty (30)
LOCATION:DAC 3-Board Room
DESCRIPTION:Groups:\nDAC Human Resources\n\nSchools:\nDistrict Administrat
 ion Center\n\nLocation:\nDAC 3-Board Room\n\nContacts:\nChristelle Morgan\
 n\nSupervisors:\nChristelle Morgan\n\n
URL;VALUE=URI:http://liberty53.tandem.co/index.php?type=view&action=event&
 id=448445
CREATED:20220616T184627Z
LAST-MODIFIED:20230131T163747Z
UID:event_request-448445-liberty53@intand.com
END:VEVENT
END:VCALENDAR
